BEGIN:VCALENDAR
VERSION:2.0
PRODID:-//Equestria United - ECPv6.15.20//NONSGML v1.0//EN
CALSCALE:GREGORIAN
METHOD:PUBLISH
X-ORIGINAL-URL:https://bronies.eu
X-WR-CALDESC:Events for Equestria United
REFRESH-INTERVAL;VALUE=DURATION:PT1H
X-Robots-Tag:noindex
X-PUBLISHED-TTL:PT1H
BEGIN:VTIMEZONE
TZID:Europe/London
BEGIN:DAYLIGHT
TZOFFSETFROM:+0000
TZOFFSETTO:+0100
TZNAME:BST
DTSTART:20250330T010000
END:DAYLIGHT
BEGIN:STANDARD
TZOFFSETFROM:+0100
TZOFFSETTO:+0000
TZNAME:GMT
DTSTART:20251026T010000
END:STANDARD
BEGIN:DAYLIGHT
TZOFFSETFROM:+0000
TZOFFSETTO:+0100
TZNAME:BST
DTSTART:20260329T010000
END:DAYLIGHT
BEGIN:STANDARD
TZOFFSETFROM:+0100
TZOFFSETTO:+0000
TZNAME:GMT
DTSTART:20261025T010000
END:STANDARD
BEGIN:DAYLIGHT
TZOFFSETFROM:+0000
TZOFFSETTO:+0100
TZNAME:BST
DTSTART:20270328T010000
END:DAYLIGHT
BEGIN:STANDARD
TZOFFSETFROM:+0100
TZOFFSETTO:+0000
TZNAME:GMT
DTSTART:20271031T010000
END:STANDARD
END:VTIMEZONE
BEGIN:VTIMEZONE
TZID:Europe/Warsaw
BEGIN:DAYLIGHT
TZOFFSETFROM:+0100
TZOFFSETTO:+0200
TZNAME:CEST
DTSTART:20250330T010000
END:DAYLIGHT
BEGIN:STANDARD
TZOFFSETFROM:+0200
TZOFFSETTO:+0100
TZNAME:CET
DTSTART:20251026T010000
END:STANDARD
BEGIN:DAYLIGHT
TZOFFSETFROM:+0100
TZOFFSETTO:+0200
TZNAME:CEST
DTSTART:20260329T010000
END:DAYLIGHT
BEGIN:STANDARD
TZOFFSETFROM:+0200
TZOFFSETTO:+0100
TZNAME:CET
DTSTART:20261025T010000
END:STANDARD
BEGIN:DAYLIGHT
TZOFFSETFROM:+0100
TZOFFSETTO:+0200
TZNAME:CEST
DTSTART:20270328T010000
END:DAYLIGHT
BEGIN:STANDARD
TZOFFSETFROM:+0200
TZOFFSETTO:+0100
TZNAME:CET
DTSTART:20271031T010000
END:STANDARD
END:VTIMEZONE
BEGIN:VEVENT
DTSTART;VALUE=DATE:20260502
DTEND;VALUE=DATE:20260504
DTSTAMP:20260425T171535
CREATED:20251020T090846Z
LAST-MODIFIED:20251020T090958Z
UID:2008-1777680000-1777852799@bronies.eu
SUMMARY:Griffish Isles 2026
DESCRIPTION:The MLP convention in Manchester is back again 🙂
URL:https://bronies.eu/event/griffish-isles-2026/
LOCATION:Pendulum Hotel\, Manchester\, Pendulum Hotel\, Sackville Street\, Manchester\, M1 3BB\, United Kingdom
CATEGORIES:Convention
ATTACH;FMTTYPE=image/png:https://bronies.eu/wp-content/uploads/2023/09/Griffish-Isles-logo-2024.png
END:VEVENT
BEGIN:VEVENT
DTSTART;VALUE=DATE:20260523
DTEND;VALUE=DATE:20260525
DTSTAMP:20260425T171535
CREATED:20251112T135651Z
LAST-MODIFIED:20260313T213618Z
UID:2042-1779494400-1779667199@bronies.eu
SUMMARY:Kucykon 2026
DESCRIPTION:Poland’s biggest pony convention in Warsaw is back after 3 years!
URL:https://bronies.eu/event/kucykon-2026/
LOCATION:Conference Center – New Horizons Training Foundation\, Bobrowiecka 9\, Warszawa\, 00-728\, Poland
CATEGORIES:Convention
ATTACH;FMTTYPE=image/png:https://bronies.eu/wp-content/uploads/2025/11/Kucykon-2026-logo.png
END:VEVENT
END:VCALENDAR