BEGIN:VCALENDAR
VERSION:2.0
PRODID:-//Equestria United - ECPv6.15.20//NONSGML v1.0//EN
CALSCALE:GREGORIAN
METHOD:PUBLISH
X-WR-CALNAME:Equestria United
X-ORIGINAL-URL:https://bronies.eu
X-WR-CALDESC:Events for Equestria United
REFRESH-INTERVAL;VALUE=DURATION:PT1H
X-Robots-Tag:noindex
X-PUBLISHED-TTL:PT1H
BEGIN:VTIMEZONE
TZID:Europe/London
BEGIN:DAYLIGHT
TZOFFSETFROM:+0000
TZOFFSETTO:+0100
TZNAME:BST
DTSTART:20220327T010000
END:DAYLIGHT
BEGIN:STANDARD
TZOFFSETFROM:+0100
TZOFFSETTO:+0000
TZNAME:GMT
DTSTART:20221030T010000
END:STANDARD
BEGIN:DAYLIGHT
TZOFFSETFROM:+0000
TZOFFSETTO:+0100
TZNAME:BST
DTSTART:20230326T010000
END:DAYLIGHT
BEGIN:STANDARD
TZOFFSETFROM:+0100
TZOFFSETTO:+0000
TZNAME:GMT
DTSTART:20231029T010000
END:STANDARD
BEGIN:DAYLIGHT
TZOFFSETFROM:+0000
TZOFFSETTO:+0100
TZNAME:BST
DTSTART:20240331T010000
END:DAYLIGHT
BEGIN:STANDARD
TZOFFSETFROM:+0100
TZOFFSETTO:+0000
TZNAME:GMT
DTSTART:20241027T010000
END:STANDARD
BEGIN:DAYLIGHT
TZOFFSETFROM:+0000
TZOFFSETTO:+0100
TZNAME:BST
DTSTART:20250330T010000
END:DAYLIGHT
BEGIN:STANDARD
TZOFFSETFROM:+0100
TZOFFSETTO:+0000
TZNAME:GMT
DTSTART:20251026T010000
END:STANDARD
BEGIN:DAYLIGHT
TZOFFSETFROM:+0000
TZOFFSETTO:+0100
TZNAME:BST
DTSTART:20260329T010000
END:DAYLIGHT
BEGIN:STANDARD
TZOFFSETFROM:+0100
TZOFFSETTO:+0000
TZNAME:GMT
DTSTART:20261025T010000
END:STANDARD
BEGIN:DAYLIGHT
TZOFFSETFROM:+0000
TZOFFSETTO:+0100
TZNAME:BST
DTSTART:20270328T010000
END:DAYLIGHT
BEGIN:STANDARD
TZOFFSETFROM:+0100
TZOFFSETTO:+0000
TZNAME:GMT
DTSTART:20271031T010000
END:STANDARD
END:VTIMEZONE
BEGIN:VTIMEZONE
TZID:Europe/Amsterdam
BEGIN:DAYLIGHT
TZOFFSETFROM:+0100
TZOFFSETTO:+0200
TZNAME:CEST
DTSTART:20220327T010000
END:DAYLIGHT
BEGIN:STANDARD
TZOFFSETFROM:+0200
TZOFFSETTO:+0100
TZNAME:CET
DTSTART:20221030T010000
END:STANDARD
BEGIN:DAYLIGHT
TZOFFSETFROM:+0100
TZOFFSETTO:+0200
TZNAME:CEST
DTSTART:20230326T010000
END:DAYLIGHT
BEGIN:STANDARD
TZOFFSETFROM:+0200
TZOFFSETTO:+0100
TZNAME:CET
DTSTART:20231029T010000
END:STANDARD
BEGIN:DAYLIGHT
TZOFFSETFROM:+0100
TZOFFSETTO:+0200
TZNAME:CEST
DTSTART:20240331T010000
END:DAYLIGHT
BEGIN:STANDARD
TZOFFSETFROM:+0200
TZOFFSETTO:+0100
TZNAME:CET
DTSTART:20241027T010000
END:STANDARD
BEGIN:DAYLIGHT
TZOFFSETFROM:+0100
TZOFFSETTO:+0200
TZNAME:CEST
DTSTART:20250330T010000
END:DAYLIGHT
BEGIN:STANDARD
TZOFFSETFROM:+0200
TZOFFSETTO:+0100
TZNAME:CET
DTSTART:20251026T010000
END:STANDARD
BEGIN:DAYLIGHT
TZOFFSETFROM:+0100
TZOFFSETTO:+0200
TZNAME:CEST
DTSTART:20260329T010000
END:DAYLIGHT
BEGIN:STANDARD
TZOFFSETFROM:+0200
TZOFFSETTO:+0100
TZNAME:CET
DTSTART:20261025T010000
END:STANDARD
END:VTIMEZONE
BEGIN:VTIMEZONE
TZID:Europe/Berlin
BEGIN:DAYLIGHT
TZOFFSETFROM:+0100
TZOFFSETTO:+0200
TZNAME:CEST
DTSTART:20220327T010000
END:DAYLIGHT
BEGIN:STANDARD
TZOFFSETFROM:+0200
TZOFFSETTO:+0100
TZNAME:CET
DTSTART:20221030T010000
END:STANDARD
BEGIN:DAYLIGHT
TZOFFSETFROM:+0100
TZOFFSETTO:+0200
TZNAME:CEST
DTSTART:20230326T010000
END:DAYLIGHT
BEGIN:STANDARD
TZOFFSETFROM:+0200
TZOFFSETTO:+0100
TZNAME:CET
DTSTART:20231029T010000
END:STANDARD
BEGIN:DAYLIGHT
TZOFFSETFROM:+0100
TZOFFSETTO:+0200
TZNAME:CEST
DTSTART:20240331T010000
END:DAYLIGHT
BEGIN:STANDARD
TZOFFSETFROM:+0200
TZOFFSETTO:+0100
TZNAME:CET
DTSTART:20241027T010000
END:STANDARD
BEGIN:DAYLIGHT
TZOFFSETFROM:+0100
TZOFFSETTO:+0200
TZNAME:CEST
DTSTART:20250330T010000
END:DAYLIGHT
BEGIN:STANDARD
TZOFFSETFROM:+0200
TZOFFSETTO:+0100
TZNAME:CET
DTSTART:20251026T010000
END:STANDARD
BEGIN:DAYLIGHT
TZOFFSETFROM:+0100
TZOFFSETTO:+0200
TZNAME:CEST
DTSTART:20260329T010000
END:DAYLIGHT
BEGIN:STANDARD
TZOFFSETFROM:+0200
TZOFFSETTO:+0100
TZNAME:CET
DTSTART:20261025T010000
END:STANDARD
END:VTIMEZONE
BEGIN:VTIMEZONE
TZID:Europe/Prague
BEGIN:DAYLIGHT
TZOFFSETFROM:+0100
TZOFFSETTO:+0200
TZNAME:CEST
DTSTART:20210328T010000
END:DAYLIGHT
BEGIN:STANDARD
TZOFFSETFROM:+0200
TZOFFSETTO:+0100
TZNAME:CET
DTSTART:20211031T010000
END:STANDARD
BEGIN:DAYLIGHT
TZOFFSETFROM:+0100
TZOFFSETTO:+0200
TZNAME:CEST
DTSTART:20220327T010000
END:DAYLIGHT
BEGIN:STANDARD
TZOFFSETFROM:+0200
TZOFFSETTO:+0100
TZNAME:CET
DTSTART:20221030T010000
END:STANDARD
BEGIN:DAYLIGHT
TZOFFSETFROM:+0100
TZOFFSETTO:+0200
TZNAME:CEST
DTSTART:20230326T010000
END:DAYLIGHT
BEGIN:STANDARD
TZOFFSETFROM:+0200
TZOFFSETTO:+0100
TZNAME:CET
DTSTART:20231029T010000
END:STANDARD
BEGIN:DAYLIGHT
TZOFFSETFROM:+0100
TZOFFSETTO:+0200
TZNAME:CEST
DTSTART:20240331T010000
END:DAYLIGHT
BEGIN:STANDARD
TZOFFSETFROM:+0200
TZOFFSETTO:+0100
TZNAME:CET
DTSTART:20241027T010000
END:STANDARD
BEGIN:DAYLIGHT
TZOFFSETFROM:+0100
TZOFFSETTO:+0200
TZNAME:CEST
DTSTART:20250330T010000
END:DAYLIGHT
BEGIN:STANDARD
TZOFFSETFROM:+0200
TZOFFSETTO:+0100
TZNAME:CET
DTSTART:20251026T010000
END:STANDARD
BEGIN:DAYLIGHT
TZOFFSETFROM:+0100
TZOFFSETTO:+0200
TZNAME:CEST
DTSTART:20260329T010000
END:DAYLIGHT
BEGIN:STANDARD
TZOFFSETFROM:+0200
TZOFFSETTO:+0100
TZNAME:CET
DTSTART:20261025T010000
END:STANDARD
END:VTIMEZONE
BEGIN:VTIMEZONE
TZID:Europe/Rome
BEGIN:DAYLIGHT
TZOFFSETFROM:+0100
TZOFFSETTO:+0200
TZNAME:CEST
DTSTART:20240331T010000
END:DAYLIGHT
BEGIN:STANDARD
TZOFFSETFROM:+0200
TZOFFSETTO:+0100
TZNAME:CET
DTSTART:20241027T010000
END:STANDARD
BEGIN:DAYLIGHT
TZOFFSETFROM:+0100
TZOFFSETTO:+0200
TZNAME:CEST
DTSTART:20250330T010000
END:DAYLIGHT
BEGIN:STANDARD
TZOFFSETFROM:+0200
TZOFFSETTO:+0100
TZNAME:CET
DTSTART:20251026T010000
END:STANDARD
BEGIN:DAYLIGHT
TZOFFSETFROM:+0100
TZOFFSETTO:+0200
TZNAME:CEST
DTSTART:20260329T010000
END:DAYLIGHT
BEGIN:STANDARD
TZOFFSETFROM:+0200
TZOFFSETTO:+0100
TZNAME:CET
DTSTART:20261025T010000
END:STANDARD
END:VTIMEZONE
BEGIN:VTIMEZONE
TZID:Europe/Warsaw
BEGIN:DAYLIGHT
TZOFFSETFROM:+0100
TZOFFSETTO:+0200
TZNAME:CEST
DTSTART:20220327T010000
END:DAYLIGHT
BEGIN:STANDARD
TZOFFSETFROM:+0200
TZOFFSETTO:+0100
TZNAME:CET
DTSTART:20221030T010000
END:STANDARD
BEGIN:DAYLIGHT
TZOFFSETFROM:+0100
TZOFFSETTO:+0200
TZNAME:CEST
DTSTART:20230326T010000
END:DAYLIGHT
BEGIN:STANDARD
TZOFFSETFROM:+0200
TZOFFSETTO:+0100
TZNAME:CET
DTSTART:20231029T010000
END:STANDARD
BEGIN:DAYLIGHT
TZOFFSETFROM:+0100
TZOFFSETTO:+0200
TZNAME:CEST
DTSTART:20240331T010000
END:DAYLIGHT
BEGIN:STANDARD
TZOFFSETFROM:+0200
TZOFFSETTO:+0100
TZNAME:CET
DTSTART:20241027T010000
END:STANDARD
END:VTIMEZONE
BEGIN:VEVENT
DTSTART;VALUE=DATE:20260321
DTEND;VALUE=DATE:20260323
DTSTAMP:20260426T063457
CREATED:20251020T102006Z
LAST-MODIFIED:20251020T102122Z
UID:2018-1774051200-1774223999@bronies.eu
SUMMARY:Festival of Friendship 2026
DESCRIPTION:
URL:https://bronies.eu/event/festival-of-friendship-2026/
LOCATION:Oasis Academy Mayfield\, Oasis Academy Mayfield\, Ashley Cres\, Southampton\, SO19 9NA\, United Kingdom
CATEGORIES:Convention
ATTACH;FMTTYPE=image/png:https://bronies.eu/wp-content/uploads/2023/09/FestivalOfFriendship-2024.png
END:VEVENT
BEGIN:VEVENT
DTSTART;VALUE=DATE:20251025
DTEND;VALUE=DATE:20251027
DTSTAMP:20260426T063457
CREATED:20250212T161015Z
LAST-MODIFIED:20251104T103626Z
UID:1743-1761350400-1761523199@bronies.eu
SUMMARY:PonyCon Holland 2025
DESCRIPTION:For the 5th time\, we go to Netherlands to enjoy a ponies & bronies together!
URL:https://bronies.eu/event/ponycon-holland-2025/
LOCATION:Hotel & Theatre Figi\, Het Rond 2\, Zeist\, 3701HS\, Netherlands
CATEGORIES:Convention
ATTACH;FMTTYPE=image/png:https://bronies.eu/wp-content/uploads/2021/08/PonyConHolland-logo.png
END:VEVENT
BEGIN:VEVENT
DTSTART;VALUE=DATE:20251003
DTEND;VALUE=DATE:20251006
DTSTAMP:20260426T063457
CREATED:20250527T151700Z
LAST-MODIFIED:20250527T152930Z
UID:1764-1759449600-1759708799@bronies.eu
SUMMARY:UK PonyCon 2025
DESCRIPTION:The longest-running and currently also the biggest My Little Pony con in Europe. Fans of all generations of ponies are welcome in the new venue!
URL:https://bronies.eu/event/uk-ponycon-2025/
LOCATION:Birmingham Conference & Events Centre\, Hill St\, Birmingham B5 4EW\, Birmingham\, United Kingdom
CATEGORIES:Convention
ATTACH;FMTTYPE=image/png:https://bronies.eu/wp-content/uploads/2021/08/UKPonyCon-logo.png
END:VEVENT
BEGIN:VEVENT
DTSTART;VALUE=DATE:20250906
DTEND;VALUE=DATE:20250908
DTSTAMP:20260426T063457
CREATED:20250212T160425Z
LAST-MODIFIED:20250527T150526Z
UID:1741-1757116800-1757289599@bronies.eu
SUMMARY:GalaCon 2025
DESCRIPTION:At the Gala! New venue stays\, date moves back to the September and this year’s theme is Steampunk.
URL:https://bronies.eu/event/galacon-2025/
LOCATION:Bürgerzentrum Waiblingen\, An der Talaue 4\, Waiblingen\, 71334\, Germany
CATEGORIES:Convention
ATTACH;FMTTYPE=image/png:https://bronies.eu/wp-content/uploads/2021/08/GalaCon-logo.png
END:VEVENT
BEGIN:VEVENT
DTSTART;VALUE=DATE:20250712
DTEND;VALUE=DATE:20250714
DTSTAMP:20260426T063457
CREATED:20250212T161721Z
LAST-MODIFIED:20250212T162235Z
UID:1747-1752278400-1752451199@bronies.eu
SUMMARY:Hop's Featherfest 2025
DESCRIPTION:New brony convention in Austria\, happening for the 2nd time and moving to the new venue!
URL:https://bronies.eu/event/hops-featherfest-2025/
LOCATION:VHS Liesing\, Liesinger Pl. 3\, Wien\, 1230\, Austria
CATEGORIES:Convention
ATTACH;FMTTYPE=image/jpeg:https://bronies.eu/wp-content/uploads/2023/11/Hops_Featherfest_logo.jpg
END:VEVENT
BEGIN:VEVENT
DTSTART;VALUE=DATE:20250606
DTEND;VALUE=DATE:20250609
DTSTAMP:20260426T063457
CREATED:20250212T160127Z
LAST-MODIFIED:20250212T160336Z
UID:1738-1749168000-1749427199@bronies.eu
SUMMARY:Everfree Encore 2025
DESCRIPTION:Brony music festival in Germany\, organized by Pony Events Federation.
URL:https://bronies.eu/event/everfree-encore-2025/
LOCATION:Gut Steimke\, Steimke 1\, Uslar\, 37170\, Germany
CATEGORIES:Music festival
ATTACH;FMTTYPE=image/png:https://bronies.eu/wp-content/uploads/2022/09/EverfreeEncore-logo.png
END:VEVENT
BEGIN:VEVENT
DTSTART;VALUE=DATE:20250531
DTEND;VALUE=DATE:20250602
DTSTAMP:20260426T063457
CREATED:20250212T143335Z
LAST-MODIFIED:20250212T144213Z
UID:1735-1748649600-1748822399@bronies.eu
SUMMARY:EponaFest 2025
DESCRIPTION:EponaFest is back and this time in Cremona\, northern Italy. \nSee you in Cremona Fiere Venue this year!
URL:https://bronies.eu/event/eponafest-2025/
LOCATION:Fiera Di Cremona\, Piazza Zelioli Lanzini Ennio\, 1\, Cremona\, 26100\, Italy
CATEGORIES:Convention
ATTACH;FMTTYPE=image/png:https://bronies.eu/wp-content/uploads/2021/08/EponaFest-logo.png
END:VEVENT
BEGIN:VEVENT
DTSTART;VALUE=DATE:20250503
DTEND;VALUE=DATE:20250505
DTSTAMP:20260426T063457
CREATED:20250212T161318Z
LAST-MODIFIED:20250212T161537Z
UID:1745-1746230400-1746403199@bronies.eu
SUMMARY:Griffish Isles 2025
DESCRIPTION:The MLP convention in Manchester is back 🙂 This time\, Bobbie will take us beneath the waves to explore the depths of the sea!
URL:https://bronies.eu/event/griffish-isles-2025/
LOCATION:Pendulum Hotel\, Manchester\, Pendulum Hotel\, Sackville Street\, Manchester\, M1 3BB\, United Kingdom
CATEGORIES:Convention
ATTACH;FMTTYPE=image/png:https://bronies.eu/wp-content/uploads/2023/09/Griffish-Isles-logo-2024.png
END:VEVENT
BEGIN:VEVENT
DTSTART;VALUE=DATE:20241019
DTEND;VALUE=DATE:20241021
DTSTAMP:20260426T063457
CREATED:20231114T125206Z
LAST-MODIFIED:20231114T125255Z
UID:1653-1729296000-1729468799@bronies.eu
SUMMARY:PonyCon Holland 2024
DESCRIPTION:
URL:https://bronies.eu/event/ponycon-holland-2024/
LOCATION:Hotel & Theatre Figi\, Het Rond 2\, Zeist\, 3701HS\, Netherlands
CATEGORIES:Convention
ATTACH;FMTTYPE=image/png:https://bronies.eu/wp-content/uploads/2021/08/PonyConHolland-logo.png
END:VEVENT
BEGIN:VEVENT
DTSTART;VALUE=DATE:20241011
DTEND;VALUE=DATE:20241014
DTSTAMP:20260426T063457
CREATED:20231114T140554Z
LAST-MODIFIED:20231114T141155Z
UID:1667-1728604800-1728863999@bronies.eu
SUMMARY:DerpyFest 2024
DESCRIPTION:Fun meetup with a rich program\, organized by Berry Punch Party Club e.V. taking place at Camp Michelstadt.
URL:https://bronies.eu/event/derpyfest-2024/
LOCATION:CVJM Camp Michelstadt\, Am Stadion\, Michelstadt\, 64720\, Germany
CATEGORIES:Meetup
ATTACH;FMTTYPE=image/png:https://bronies.eu/wp-content/uploads/2022/09/DerpyFest-logo.png
END:VEVENT
BEGIN:VEVENT
DTSTART;VALUE=DATE:20241005
DTEND;VALUE=DATE:20241007
DTSTAMP:20260426T063457
CREATED:20240115T120326Z
LAST-MODIFIED:20240115T120451Z
UID:1679-1728086400-1728259199@bronies.eu
SUMMARY:UK PonyCon 2024
DESCRIPTION:The longest-running My Little Pony con in Europe. Fans of all generations of ponies are welcome!
URL:https://bronies.eu/event/uk-ponycon-2024/
LOCATION:Nottingham City Campus of NTU\, 10 Goldsmith St\, Nottingham\, NG1 4BU\, United Kingdom
CATEGORIES:Convention
ATTACH;FMTTYPE=image/png:https://bronies.eu/wp-content/uploads/2021/08/UKPonyCon-logo.png
END:VEVENT
BEGIN:VEVENT
DTSTART;VALUE=DATE:20240928
DTEND;VALUE=DATE:20240930
DTSTAMP:20260426T063457
CREATED:20231114T131041Z
LAST-MODIFIED:20250212T161620Z
UID:1659-1727481600-1727654399@bronies.eu
SUMMARY:Hop's Featherfest 2024
DESCRIPTION:New brony convention in Austria\, planned to take place for the very first time in September 2024.
URL:https://bronies.eu/event/hops-featherfest-2024/
LOCATION:VHS Wiener Urania\, Uraniastraße 1\, Wien\, 1010\, Austria
CATEGORIES:Convention
END:VEVENT
BEGIN:VEVENT
DTSTART;VALUE=DATE:20240823
DTEND;VALUE=DATE:20240826
DTSTAMP:20260426T063457
CREATED:20230914T192003Z
LAST-MODIFIED:20230914T192003Z
UID:1626-1724371200-1724630399@bronies.eu
SUMMARY:Czequestria 2024
DESCRIPTION:The semi-annual MLP convention in Prague returns to its 2-years schedule.
URL:https://bronies.eu/event/czequestria-2024/
LOCATION:Kulturní dům Krakov\, Těšínská 600/4\, Praha 8\, 181 00\, Czech Republic
CATEGORIES:Convention
ATTACH;FMTTYPE=image/png:https://bronies.eu/wp-content/uploads/2023/09/Czequestria-2024-logo.png
END:VEVENT
BEGIN:VEVENT
DTSTART;VALUE=DATE:20240727
DTEND;VALUE=DATE:20240729
DTSTAMP:20260426T063457
CREATED:20231114T124846Z
LAST-MODIFIED:20231114T125050Z
UID:1650-1722038400-1722211199@bronies.eu
SUMMARY:GalaCon 2024
DESCRIPTION:At the Gala! New venue stays\, date moves back to the original time of the year.
URL:https://bronies.eu/event/galacon-2024/
LOCATION:Bürgerzentrum Waiblingen\, An der Talaue 4\, Waiblingen\, 71334\, Germany
CATEGORIES:Convention
ATTACH;FMTTYPE=image/png:https://bronies.eu/wp-content/uploads/2021/08/GalaCon-logo.png
END:VEVENT
BEGIN:VEVENT
DTSTART;VALUE=DATE:20240607
DTEND;VALUE=DATE:20240610
DTSTAMP:20260426T063457
CREATED:20231114T102431Z
LAST-MODIFIED:20231114T102601Z
UID:1642-1717718400-1717977599@bronies.eu
SUMMARY:Everfree Encore 2024
DESCRIPTION:Brony music festival in Germany\, organized by PEF.
URL:https://bronies.eu/event/everfree-encore-2024/
LOCATION:Gut Steimke\, Steimke 1\, Uslar\, 37170\, Germany
CATEGORIES:Music festival
ATTACH;FMTTYPE=image/png:https://bronies.eu/wp-content/uploads/2022/09/EverfreeEncore-logo.png
END:VEVENT
BEGIN:VEVENT
DTSTART;VALUE=DATE:20240511
DTEND;VALUE=DATE:20240513
DTSTAMP:20260426T063457
CREATED:20230914T191141Z
LAST-MODIFIED:20231114T131253Z
UID:1621-1715385600-1715558399@bronies.eu
SUMMARY:Griffish Isles 2024
DESCRIPTION:The MLP convention in Manchester is back 🙂 This time\, Bobbie will take us above the clouds to experience the world above!
URL:https://bronies.eu/event/griffish-isles-2024/
LOCATION:Pendulum Hotel\, Manchester\, Pendulum Hotel\, Sackville Street\, Manchester\, M1 3BB\, United Kingdom
CATEGORIES:Convention
ATTACH;FMTTYPE=image/png:https://bronies.eu/wp-content/uploads/2023/09/Griffish-Isles-logo-2024.png
END:VEVENT
BEGIN:VEVENT
DTSTART;TZID=Europe/Prague:20240323T200000
DTEND;TZID=Europe/Prague:20240323T235900
DTSTAMP:20260426T063457
CREATED:20240308T145656Z
LAST-MODIFIED:20240308T150033Z
UID:1690-1711224000-1711238340@bronies.eu
SUMMARY:Lunafest 2024
DESCRIPTION:Music event  comes back for 11th time already – this year topic is “Lunafest 2024A-narchie!”
URL:https://bronies.eu/event/lunafest-2024/
LOCATION:Stellwerk Hamburg\, Hannoversche Str. 85\, Hamburg\, 21079\, Germany
CATEGORIES:Meetup,Music festival
ATTACH;FMTTYPE=image/png:https://bronies.eu/wp-content/uploads/2024/03/LunaFest-logo.png
END:VEVENT
BEGIN:VEVENT
DTSTART;VALUE=DATE:20240316
DTEND;VALUE=DATE:20240318
DTSTAMP:20260426T063457
CREATED:20230925T204144Z
LAST-MODIFIED:20230925T204144Z
UID:1633-1710547200-1710719999@bronies.eu
SUMMARY:Festival of Friendship 2024
DESCRIPTION:Two whole days of pony fun and pirate shenanigans – this year\, they’re taking to the high seas with a pirate theme that’s sure to shiver yer timbers and warm yer heart!
URL:https://bronies.eu/event/festival-of-friendship-2024/
LOCATION:Oasis Academy Mayfield\, Oasis Academy Mayfield\, Ashley Cres\, Southampton\, SO19 9NA\, United Kingdom
CATEGORIES:Convention
ATTACH;FMTTYPE=image/png:https://bronies.eu/wp-content/uploads/2023/09/FestivalOfFriendship-2024.png
END:VEVENT
BEGIN:VEVENT
DTSTART;VALUE=DATE:20231021
DTEND;VALUE=DATE:20231023
DTSTAMP:20260426T063457
CREATED:20230117T202510Z
LAST-MODIFIED:20230801T142315Z
UID:1126-1697846400-1698019199@bronies.eu
SUMMARY:PonyCon Holland 2023
DESCRIPTION:
URL:https://bronies.eu/event/ponycon-holland-2023/
LOCATION:Hotel & Theatre Figi\, Het Rond 2\, Zeist\, 3701HS\, Netherlands
CATEGORIES:Convention
ATTACH;FMTTYPE=image/png:https://bronies.eu/wp-content/uploads/2021/08/PonyConHolland-logo.png
END:VEVENT
BEGIN:VEVENT
DTSTART;VALUE=DATE:20230930
DTEND;VALUE=DATE:20231002
DTSTAMP:20260426T063457
CREATED:20230117T194235Z
LAST-MODIFIED:20230120T100229Z
UID:1110-1696032000-1696204799@bronies.eu
SUMMARY:UK PonyCon 2023
DESCRIPTION:The longest-running My Little Pony con in Europe. Fans of all generations of ponies are welcome!
URL:https://bronies.eu/event/uk-ponycon-2023/
LOCATION:Nottingham City Campus of NTU\, 10 Goldsmith St\, Nottingham\, NG1 4BU\, United Kingdom
CATEGORIES:Convention
ATTACH;FMTTYPE=image/png:https://bronies.eu/wp-content/uploads/2021/08/UKPonyCon-logo.png
END:VEVENT
BEGIN:VEVENT
DTSTART;VALUE=DATE:20230916
DTEND;VALUE=DATE:20230918
DTSTAMP:20260426T063457
CREATED:20230122T201843Z
LAST-MODIFIED:20230122T202210Z
UID:1138-1694822400-1694995199@bronies.eu
SUMMARY:GalaCon 2023
DESCRIPTION:At the Gala! This year in the new venue and also on a different date than in previous years.
URL:https://bronies.eu/event/galacon-2023/
LOCATION:Bürgerzentrum Waiblingen\, An der Talaue 4\, Waiblingen\, 71334\, Germany
CATEGORIES:Convention
ATTACH;FMTTYPE=image/png:https://bronies.eu/wp-content/uploads/2021/08/GalaCon-logo.png
END:VEVENT
BEGIN:VEVENT
DTSTART;TZID=Europe/Warsaw:20230804T180000
DTEND;TZID=Europe/Warsaw:20230806T100000
DTSTAMP:20260426T063457
CREATED:20230801T144353Z
LAST-MODIFIED:20230801T144429Z
UID:1523-1691172000-1691316000@bronies.eu
SUMMARY:Kucykon 2023
DESCRIPTION:2nd edition of the largest Polish convention for fans of MLP:FiM\, taking place in Warsaw in the summer. Traditionally there is a possibility to sleep at the convention place. \n \nFor more info\, check their website or FB page.
URL:https://bronies.eu/event/kucykon-2023/
LOCATION:Lira Spółdzielczy Dom Kultury\, Łojewska 3\, Warszawa\, 03-392\, Poland
CATEGORIES:Convention
ATTACH;FMTTYPE=image/jpeg:https://bronies.eu/wp-content/uploads/2023/08/Kucykon-logo-2023.jpg
END:VEVENT
BEGIN:VEVENT
DTSTART;VALUE=DATE:20230520
DTEND;VALUE=DATE:20230522
DTSTAMP:20260426T063457
CREATED:20220930T213357Z
LAST-MODIFIED:20230801T142341Z
UID:868-1684540800-1684713599@bronies.eu
SUMMARY:EponaFest 2023
DESCRIPTION:First international MLP convention in Italy – held for the second time in 2023
URL:https://bronies.eu/event/eponafest-2023/
LOCATION:Starhotels Business Palace\, Via Privata Pietro Gaggia\, 3\, Milano\, 20139\, Italy
CATEGORIES:Convention
ATTACH;FMTTYPE=image/png:https://bronies.eu/wp-content/uploads/2021/08/EponaFest-logo.png
END:VEVENT
BEGIN:VEVENT
DTSTART;VALUE=DATE:20230506
DTEND;VALUE=DATE:20230508
DTSTAMP:20260426T063457
CREATED:20230117T195607Z
LAST-MODIFIED:20230801T142404Z
UID:1113-1683331200-1683503999@bronies.eu
SUMMARY:Griffish Isles 2023
DESCRIPTION:The MLP convention in Manchester is back for the 5th time! This year the theme is “80’s Disco Party!”
URL:https://bronies.eu/event/griffish-isles-2023/
LOCATION:Pendulum Hotel\, Manchester\, Pendulum Hotel\, Sackville Street\, Manchester\, M1 3BB\, United Kingdom
CATEGORIES:Convention
ATTACH;FMTTYPE=image/png:https://bronies.eu/wp-content/uploads/2021/08/Griffish_Isles-logo.png
END:VEVENT
BEGIN:VEVENT
DTSTART;VALUE=DATE:20230505
DTEND;VALUE=DATE:20230508
DTSTAMP:20260426T063457
CREATED:20220930T215159Z
LAST-MODIFIED:20230801T142516Z
UID:874-1683244800-1683503999@bronies.eu
SUMMARY:Everfree Encore 2023
DESCRIPTION:Brony music festival in Germany\, organized by PEF.
URL:https://bronies.eu/event/everfree-encore-2023/
LOCATION:Gut Steimke\, Steimke 1\, Uslar\, 37170\, Germany
CATEGORIES:Music festival
ATTACH;FMTTYPE=image/png:https://bronies.eu/wp-content/uploads/2022/09/EverfreeEncore-logo.png
END:VEVENT
BEGIN:VEVENT
DTSTART;VALUE=DATE:20230318
DTEND;VALUE=DATE:20230319
DTSTAMP:20260426T063457
CREATED:20230117T201208Z
LAST-MODIFIED:20230801T142245Z
UID:1117-1679097600-1679183999@bronies.eu
SUMMARY:Festival of Friendship 2023
DESCRIPTION:A one-day MLP event in Hampshire\, UK. The theme of this year is “At the Gala!”. \n \nFor more info\, check their website\, FB and Twitter.
URL:https://bronies.eu/event/festival-of-friendship-2023/
LOCATION:The Link\, Tadley Community Centre\, New Church Road\, Tadley\, Hampshire\, RG26 4HN\, United Kingdom
CATEGORIES:Convention
ATTACH;FMTTYPE=image/png:https://bronies.eu/wp-content/uploads/2023/01/FestivalOfFriendship-logo.png
END:VEVENT
BEGIN:VEVENT
DTSTART;VALUE=DATE:20221021
DTEND;VALUE=DATE:20221024
DTSTAMP:20260426T063457
CREATED:20220930T220134Z
LAST-MODIFIED:20230801T142612Z
UID:879-1666310400-1666569599@bronies.eu
SUMMARY:DerpyFest 2022
DESCRIPTION:Fun meetup with a rich program\, organized by Berry Punch Party Club e.V.
URL:https://bronies.eu/event/derpyfest-2022/
LOCATION:CVJM Camp Michelstadt\, Am Stadion\, Michelstadt\, 64720\, Germany
CATEGORIES:Meetup
ATTACH;FMTTYPE=image/png:https://bronies.eu/wp-content/uploads/2022/09/DerpyFest-logo.png
END:VEVENT
BEGIN:VEVENT
DTSTART;VALUE=DATE:20221008
DTEND;VALUE=DATE:20221010
DTSTAMP:20260426T063457
CREATED:20220930T212934Z
LAST-MODIFIED:20230117T194357Z
UID:865-1665187200-1665359999@bronies.eu
SUMMARY:UK PonyCon 2022
DESCRIPTION:The longest-running My Little Pony con in Europe. Fans of all generations of ponies are welcome! The theme for 2022 is “The Gothic”. \nAlthough the venue address is correct\, the entrance to the venue is at a different place than the map below suggests – the venue entrance is here.
URL:https://bronies.eu/event/uk-ponycon-2022/
LOCATION:Nottingham City Campus of NTU\, 10 Goldsmith St\, Nottingham\, NG1 4BU\, United Kingdom
CATEGORIES:Convention
ATTACH;FMTTYPE=image/png:https://bronies.eu/wp-content/uploads/2021/08/UKPonyCon-logo.png
END:VEVENT
BEGIN:VEVENT
DTSTART;VALUE=DATE:20221001
DTEND;VALUE=DATE:20221003
DTSTAMP:20260426T063457
CREATED:20220930T212436Z
LAST-MODIFIED:20230801T142434Z
UID:861-1664582400-1664755199@bronies.eu
SUMMARY:PonyCon Holland 2022
DESCRIPTION:A new MLP con in the Netherlands\, successor of Hearth’s Warming Con. Will be held for the second time in 2022 at the same place in the “Fairytales vs. Nightmares” theme.
URL:https://bronies.eu/event/ponycon-holland-2022/
LOCATION:Hotel & Theatre Figi\, Het Rond 2\, Zeist\, 3701HS\, Netherlands
CATEGORIES:Convention
ATTACH;FMTTYPE=image/png:https://bronies.eu/wp-content/uploads/2021/08/PonyConHolland-logo.png
END:VEVENT
BEGIN:VEVENT
DTSTART;VALUE=DATE:20220819
DTEND;VALUE=DATE:20220822
DTSTAMP:20260426T063457
CREATED:20210804T161723Z
LAST-MODIFIED:20220517T215215Z
UID:381-1660867200-1661126399@bronies.eu
SUMMARY:Czequestria 2022
DESCRIPTION:The semi-annual convention in Prague returns one year later than its usual schedule. Originally announced as “Czequestria 202X” now comes with solution x=2 and theme “Sun vs. Moon”. Friday LARP included as usual.
URL:https://bronies.eu/event/czequestria-2022/
LOCATION:Kulturní dům Krakov\, Těšínská 600/4\, Praha 8\, 181 00\, Czech Republic
CATEGORIES:Convention
ATTACH;FMTTYPE=image/png:https://bronies.eu/wp-content/uploads/2021/08/Czequestria-logo.png
END:VEVENT
END:VCALENDAR