BEGIN:VCALENDAR
VERSION:2.0
PRODID:-//Equestria United - ECPv6.15.20//NONSGML v1.0//EN
CALSCALE:GREGORIAN
METHOD:PUBLISH
X-WR-CALNAME:Equestria United
X-ORIGINAL-URL:https://bronies.eu
X-WR-CALDESC:Events for Equestria United
REFRESH-INTERVAL;VALUE=DURATION:PT1H
X-Robots-Tag:noindex
X-PUBLISHED-TTL:PT1H
BEGIN:VTIMEZONE
TZID:Europe/Prague
BEGIN:DAYLIGHT
TZOFFSETFROM:+0100
TZOFFSETTO:+0200
TZNAME:CEST
DTSTART:20200329T010000
END:DAYLIGHT
BEGIN:STANDARD
TZOFFSETFROM:+0200
TZOFFSETTO:+0100
TZNAME:CET
DTSTART:20201025T010000
END:STANDARD
BEGIN:DAYLIGHT
TZOFFSETFROM:+0100
TZOFFSETTO:+0200
TZNAME:CEST
DTSTART:20210328T010000
END:DAYLIGHT
BEGIN:STANDARD
TZOFFSETFROM:+0200
TZOFFSETTO:+0100
TZNAME:CET
DTSTART:20211031T010000
END:STANDARD
BEGIN:DAYLIGHT
TZOFFSETFROM:+0100
TZOFFSETTO:+0200
TZNAME:CEST
DTSTART:20220327T010000
END:DAYLIGHT
BEGIN:STANDARD
TZOFFSETFROM:+0200
TZOFFSETTO:+0100
TZNAME:CET
DTSTART:20221030T010000
END:STANDARD
BEGIN:DAYLIGHT
TZOFFSETFROM:+0100
TZOFFSETTO:+0200
TZNAME:CEST
DTSTART:20230326T010000
END:DAYLIGHT
BEGIN:STANDARD
TZOFFSETFROM:+0200
TZOFFSETTO:+0100
TZNAME:CET
DTSTART:20231029T010000
END:STANDARD
END:VTIMEZONE
BEGIN:VEVENT
DTSTART;VALUE=DATE:20220521
DTEND;VALUE=DATE:20220523
DTSTAMP:20260426T011124
CREATED:20210806T124544Z
LAST-MODIFIED:20210902T110355Z
UID:487-1653091200-1653263999@bronies.eu
SUMMARY:EponaFest 2022
DESCRIPTION:First international MLP convention in Italy – held for the very first time.
URL:https://bronies.eu/event/eponafest-2022/
LOCATION:Starhotels Business Palace\, Via Privata Pietro Gaggia\, 3\, Milano\, 20139\, Italy
CATEGORIES:Convention
ATTACH;FMTTYPE=image/png:https://bronies.eu/wp-content/uploads/2021/08/EponaFest-logo.png
END:VEVENT
BEGIN:VEVENT
DTSTART;VALUE=DATE:20211120
DTEND;VALUE=DATE:20211122
DTSTAMP:20260426T011124
CREATED:20210806T094150Z
LAST-MODIFIED:20210902T110420Z
UID:482-1637366400-1637539199@bronies.eu
SUMMARY:Griffish Isles 2021
DESCRIPTION:MLP conventions returned to Manchester after a few years break – now you can enjoy ponies there again! The venue is yet to be determined\, but wherever it takes place\, it’s gonna be an enjoyable and calm event.
URL:https://bronies.eu/event/griffish-isles-2021/
LOCATION:Manchester\, Manchester\, United Kingdom
CATEGORIES:Convention
ATTACH;FMTTYPE=image/png:https://bronies.eu/wp-content/uploads/2021/08/Griffish_Isles-logo.png
END:VEVENT
BEGIN:VEVENT
DTSTART;VALUE=DATE:20211016
DTEND;VALUE=DATE:20211018
DTSTAMP:20260426T011124
CREATED:20210806T132412Z
LAST-MODIFIED:20210902T110434Z
UID:508-1634342400-1634515199@bronies.eu
SUMMARY:PonyCon Holland 2021
DESCRIPTION:A new MLP con in the Netherlands – will be held for the very first time in 2021.
URL:https://bronies.eu/event/ponycon-holland-2021/
LOCATION:Hotel & Theatre Figi\, Het Rond 2\, Zeist\, 3701HS\, Netherlands
CATEGORIES:Convention
ATTACH;FMTTYPE=image/png:https://bronies.eu/wp-content/uploads/2021/08/PonyConHolland-logo.png
END:VEVENT
BEGIN:VEVENT
DTSTART;VALUE=DATE:20211009
DTEND;VALUE=DATE:20211011
DTSTAMP:20260426T011124
CREATED:20210805T120756Z
LAST-MODIFIED:20210902T110454Z
UID:426-1633737600-1633910399@bronies.eu
SUMMARY:UK PonyCon 2021
DESCRIPTION:After more than a year and several online events\, a fan-created and fan-run convention celebrating all incarnations of My Little Pony returns to the in-person event! This time in the theme “Let’s Get The Party Started!”. \nAlthough the venue address is correct\, the entrance to the venue is at a different place than the map below suggests – the venue entrance is here.
URL:https://bronies.eu/event/uk-ponycon-2021/
LOCATION:Nottingham City Campus of NTU\, 10 Goldsmith St\, Nottingham\, NG1 4BU\, United Kingdom
CATEGORIES:Convention
ATTACH;FMTTYPE=image/png:https://bronies.eu/wp-content/uploads/2021/08/UKPonyCon-logo.png
END:VEVENT
END:VCALENDAR