BEGIN:VCALENDAR
VERSION:2.0
PRODID:-//Equestria United - ECPv6.15.20//NONSGML v1.0//EN
CALSCALE:GREGORIAN
METHOD:PUBLISH
X-WR-CALNAME:Equestria United
X-ORIGINAL-URL:https://bronies.eu
X-WR-CALDESC:Events for Equestria United
REFRESH-INTERVAL;VALUE=DURATION:PT1H
X-Robots-Tag:noindex
X-PUBLISHED-TTL:PT1H
BEGIN:VTIMEZONE
TZID:Europe/London
BEGIN:DAYLIGHT
TZOFFSETFROM:+0000
TZOFFSETTO:+0100
TZNAME:BST
DTSTART:20240331T010000
END:DAYLIGHT
BEGIN:STANDARD
TZOFFSETFROM:+0100
TZOFFSETTO:+0000
TZNAME:GMT
DTSTART:20241027T010000
END:STANDARD
BEGIN:DAYLIGHT
TZOFFSETFROM:+0000
TZOFFSETTO:+0100
TZNAME:BST
DTSTART:20250330T010000
END:DAYLIGHT
BEGIN:STANDARD
TZOFFSETFROM:+0100
TZOFFSETTO:+0000
TZNAME:GMT
DTSTART:20251026T010000
END:STANDARD
BEGIN:DAYLIGHT
TZOFFSETFROM:+0000
TZOFFSETTO:+0100
TZNAME:BST
DTSTART:20260329T010000
END:DAYLIGHT
BEGIN:STANDARD
TZOFFSETFROM:+0100
TZOFFSETTO:+0000
TZNAME:GMT
DTSTART:20261025T010000
END:STANDARD
END:VTIMEZONE
BEGIN:VTIMEZONE
TZID:Europe/Amsterdam
BEGIN:DAYLIGHT
TZOFFSETFROM:+0100
TZOFFSETTO:+0200
TZNAME:CEST
DTSTART:20240331T010000
END:DAYLIGHT
BEGIN:STANDARD
TZOFFSETFROM:+0200
TZOFFSETTO:+0100
TZNAME:CET
DTSTART:20241027T010000
END:STANDARD
BEGIN:DAYLIGHT
TZOFFSETFROM:+0100
TZOFFSETTO:+0200
TZNAME:CEST
DTSTART:20250330T010000
END:DAYLIGHT
BEGIN:STANDARD
TZOFFSETFROM:+0200
TZOFFSETTO:+0100
TZNAME:CET
DTSTART:20251026T010000
END:STANDARD
BEGIN:DAYLIGHT
TZOFFSETFROM:+0100
TZOFFSETTO:+0200
TZNAME:CEST
DTSTART:20260329T010000
END:DAYLIGHT
BEGIN:STANDARD
TZOFFSETFROM:+0200
TZOFFSETTO:+0100
TZNAME:CET
DTSTART:20261025T010000
END:STANDARD
END:VTIMEZONE
BEGIN:VEVENT
DTSTART;VALUE=DATE:20251003
DTEND;VALUE=DATE:20251006
DTSTAMP:20260426T000936
CREATED:20250527T151700Z
LAST-MODIFIED:20250527T152930Z
UID:1764-1759449600-1759708799@bronies.eu
SUMMARY:UK PonyCon 2025
DESCRIPTION:The longest-running and currently also the biggest My Little Pony con in Europe. Fans of all generations of ponies are welcome in the new venue!
URL:https://bronies.eu/event/uk-ponycon-2025/
LOCATION:Birmingham Conference & Events Centre\, Hill St\, Birmingham B5 4EW\, Birmingham\, United Kingdom
CATEGORIES:Convention
ATTACH;FMTTYPE=image/png:https://bronies.eu/wp-content/uploads/2021/08/UKPonyCon-logo.png
END:VEVENT
BEGIN:VEVENT
DTSTART;VALUE=DATE:20251025
DTEND;VALUE=DATE:20251027
DTSTAMP:20260426T000936
CREATED:20250212T161015Z
LAST-MODIFIED:20251104T103626Z
UID:1743-1761350400-1761523199@bronies.eu
SUMMARY:PonyCon Holland 2025
DESCRIPTION:For the 5th time\, we go to Netherlands to enjoy a ponies & bronies together!
URL:https://bronies.eu/event/ponycon-holland-2025/
LOCATION:Hotel & Theatre Figi\, Het Rond 2\, Zeist\, 3701HS\, Netherlands
CATEGORIES:Convention
ATTACH;FMTTYPE=image/png:https://bronies.eu/wp-content/uploads/2021/08/PonyConHolland-logo.png
END:VEVENT
END:VCALENDAR