BEGIN:VCALENDAR
VERSION:2.0
PRODID:-//Equestria United - ECPv6.15.20//NONSGML v1.0//EN
CALSCALE:GREGORIAN
METHOD:PUBLISH
X-ORIGINAL-URL:https://bronies.eu
X-WR-CALDESC:Events for Equestria United
REFRESH-INTERVAL;VALUE=DURATION:PT1H
X-Robots-Tag:noindex
X-PUBLISHED-TTL:PT1H
BEGIN:VTIMEZONE
TZID:Europe/Prague
BEGIN:DAYLIGHT
TZOFFSETFROM:+0100
TZOFFSETTO:+0200
TZNAME:CEST
DTSTART:20250330T010000
END:DAYLIGHT
BEGIN:STANDARD
TZOFFSETFROM:+0200
TZOFFSETTO:+0100
TZNAME:CET
DTSTART:20251026T010000
END:STANDARD
BEGIN:DAYLIGHT
TZOFFSETFROM:+0100
TZOFFSETTO:+0200
TZNAME:CEST
DTSTART:20260329T010000
END:DAYLIGHT
BEGIN:STANDARD
TZOFFSETFROM:+0200
TZOFFSETTO:+0100
TZNAME:CET
DTSTART:20261025T010000
END:STANDARD
BEGIN:DAYLIGHT
TZOFFSETFROM:+0100
TZOFFSETTO:+0200
TZNAME:CEST
DTSTART:20270328T010000
END:DAYLIGHT
BEGIN:STANDARD
TZOFFSETFROM:+0200
TZOFFSETTO:+0100
TZNAME:CET
DTSTART:20271031T010000
END:STANDARD
END:VTIMEZONE
BEGIN:VEVENT
DTSTART;VALUE=DATE:20260821
DTEND;VALUE=DATE:20260824
DTSTAMP:20260425T212147
CREATED:20251020T090136Z
LAST-MODIFIED:20251020T091129Z
UID:2004-1787270400-1787529599@bronies.eu
SUMMARY:Czequestria 2026
DESCRIPTION:The semi-annual MLP convention in Prague returns to its 2-years schedule. This year’s theme is “Of Kings and Queens”.
URL:https://bronies.eu/event/czequestria-2026/
LOCATION:Kulturní dům Krakov\, Těšínská 600/4\, Praha 8\, 181 00\, Czech Republic
CATEGORIES:Convention
ATTACH;FMTTYPE=image/png:https://bronies.eu/wp-content/uploads/2021/08/Czequestria-logo.png
END:VEVENT
END:VCALENDAR